BEGIN:VCALENDAR
VERSION:2.0
PRODID:-//Billy G&#039;s Kirkwood - ECPv6.15.19//NONSGML v1.0//EN
CALSCALE:GREGORIAN
METHOD:PUBLISH
X-WR-CALNAME:Billy G&#039;s Kirkwood
X-ORIGINAL-URL:https://billygskirkwood.com
X-WR-CALDESC:Events for Billy G&#039;s Kirkwood
REFRESH-INTERVAL;VALUE=DURATION:PT1H
X-Robots-Tag:noindex
X-PUBLISHED-TTL:PT1H
BEGIN:VTIMEZONE
TZID:America/Chicago
BEGIN:DAYLIGHT
TZOFFSETFROM:-0600
TZOFFSETTO:-0500
TZNAME:CDT
DTSTART:20250309T080000
END:DAYLIGHT
BEGIN:STANDARD
TZOFFSETFROM:-0500
TZOFFSETTO:-0600
TZNAME:CST
DTSTART:20251102T070000
END:STANDARD
BEGIN:DAYLIGHT
TZOFFSETFROM:-0600
TZOFFSETTO:-0500
TZNAME:CDT
DTSTART:20260308T080000
END:DAYLIGHT
BEGIN:STANDARD
TZOFFSETFROM:-0500
TZOFFSETTO:-0600
TZNAME:CST
DTSTART:20261101T070000
END:STANDARD
BEGIN:DAYLIGHT
TZOFFSETFROM:-0600
TZOFFSETTO:-0500
TZNAME:CDT
DTSTART:20270314T080000
END:DAYLIGHT
BEGIN:STANDARD
TZOFFSETFROM:-0500
TZOFFSETTO:-0600
TZNAME:CST
DTSTART:20271107T070000
END:STANDARD
END:VTIMEZONE
BEGIN:VEVENT
DTSTART;TZID=America/Chicago:20260427T180000
DTEND;TZID=America/Chicago:20260427T210000
DTSTAMP:20260423T082111
CREATED:20260326T154855Z
LAST-MODIFIED:20260326T154855Z
UID:10000768-1777312800-1777323600@billygskirkwood.com
SUMMARY:Mike Mattingly
DESCRIPTION:
URL:https://billygskirkwood.com/event/mike-mattingly-2/2026-04-27/
END:VEVENT
BEGIN:VEVENT
DTSTART;TZID=America/Chicago:20260504T180000
DTEND;TZID=America/Chicago:20260504T210000
DTSTAMP:20260423T082111
CREATED:20260326T154855Z
LAST-MODIFIED:20260326T154855Z
UID:10000769-1777917600-1777928400@billygskirkwood.com
SUMMARY:Mike Mattingly
DESCRIPTION:
URL:https://billygskirkwood.com/event/mike-mattingly-2/2026-05-04/
END:VEVENT
BEGIN:VEVENT
DTSTART;TZID=America/Chicago:20260511T180000
DTEND;TZID=America/Chicago:20260511T210000
DTSTAMP:20260423T082111
CREATED:20260326T154855Z
LAST-MODIFIED:20260326T154855Z
UID:10000770-1778522400-1778533200@billygskirkwood.com
SUMMARY:Mike Mattingly
DESCRIPTION:
URL:https://billygskirkwood.com/event/mike-mattingly-2/2026-05-11/
END:VEVENT
BEGIN:VEVENT
DTSTART;TZID=America/Chicago:20260518T180000
DTEND;TZID=America/Chicago:20260518T210000
DTSTAMP:20260423T082111
CREATED:20260326T154855Z
LAST-MODIFIED:20260326T154855Z
UID:10000771-1779127200-1779138000@billygskirkwood.com
SUMMARY:Mike Mattingly
DESCRIPTION:
URL:https://billygskirkwood.com/event/mike-mattingly-2/2026-05-18/
END:VEVENT
BEGIN:VEVENT
DTSTART;TZID=America/Chicago:20260525T180000
DTEND;TZID=America/Chicago:20260525T210000
DTSTAMP:20260423T082111
CREATED:20260326T154855Z
LAST-MODIFIED:20260326T154855Z
UID:10000772-1779732000-1779742800@billygskirkwood.com
SUMMARY:Mike Mattingly
DESCRIPTION:
URL:https://billygskirkwood.com/event/mike-mattingly-2/2026-05-25/
END:VEVENT
BEGIN:VEVENT
DTSTART;TZID=America/Chicago:20260601T180000
DTEND;TZID=America/Chicago:20260601T210000
DTSTAMP:20260423T082111
CREATED:20260326T154855Z
LAST-MODIFIED:20260326T154855Z
UID:10000773-1780336800-1780347600@billygskirkwood.com
SUMMARY:Mike Mattingly
DESCRIPTION:
URL:https://billygskirkwood.com/event/mike-mattingly-2/2026-06-01/
END:VEVENT
BEGIN:VEVENT
DTSTART;TZID=America/Chicago:20260608T180000
DTEND;TZID=America/Chicago:20260608T210000
DTSTAMP:20260423T082111
CREATED:20260326T154855Z
LAST-MODIFIED:20260326T154855Z
UID:10000774-1780941600-1780952400@billygskirkwood.com
SUMMARY:Mike Mattingly
DESCRIPTION:
URL:https://billygskirkwood.com/event/mike-mattingly-2/2026-06-08/
END:VEVENT
BEGIN:VEVENT
DTSTART;TZID=America/Chicago:20260615T180000
DTEND;TZID=America/Chicago:20260615T210000
DTSTAMP:20260423T082111
CREATED:20260326T154855Z
LAST-MODIFIED:20260326T154855Z
UID:10000775-1781546400-1781557200@billygskirkwood.com
SUMMARY:Mike Mattingly
DESCRIPTION:
URL:https://billygskirkwood.com/event/mike-mattingly-2/2026-06-15/
END:VEVENT
BEGIN:VEVENT
DTSTART;TZID=America/Chicago:20260622T180000
DTEND;TZID=America/Chicago:20260622T210000
DTSTAMP:20260423T082111
CREATED:20260326T154855Z
LAST-MODIFIED:20260326T154855Z
UID:10000776-1782151200-1782162000@billygskirkwood.com
SUMMARY:Mike Mattingly
DESCRIPTION:
URL:https://billygskirkwood.com/event/mike-mattingly-2/2026-06-22/
END:VEVENT
BEGIN:VEVENT
DTSTART;TZID=America/Chicago:20260629T180000
DTEND;TZID=America/Chicago:20260629T210000
DTSTAMP:20260423T082111
CREATED:20260326T154855Z
LAST-MODIFIED:20260326T154855Z
UID:10000777-1782756000-1782766800@billygskirkwood.com
SUMMARY:Mike Mattingly
DESCRIPTION:
URL:https://billygskirkwood.com/event/mike-mattingly-2/2026-06-29/
END:VEVENT
BEGIN:VEVENT
DTSTART;TZID=America/Chicago:20260706T180000
DTEND;TZID=America/Chicago:20260706T210000
DTSTAMP:20260423T082111
CREATED:20260326T154855Z
LAST-MODIFIED:20260326T154855Z
UID:10000778-1783360800-1783371600@billygskirkwood.com
SUMMARY:Mike Mattingly
DESCRIPTION:
URL:https://billygskirkwood.com/event/mike-mattingly-2/2026-07-06/
END:VEVENT
BEGIN:VEVENT
DTSTART;TZID=America/Chicago:20260713T180000
DTEND;TZID=America/Chicago:20260713T210000
DTSTAMP:20260423T082111
CREATED:20260326T154855Z
LAST-MODIFIED:20260326T154855Z
UID:10000779-1783965600-1783976400@billygskirkwood.com
SUMMARY:Mike Mattingly
DESCRIPTION:
URL:https://billygskirkwood.com/event/mike-mattingly-2/2026-07-13/
END:VEVENT
BEGIN:VEVENT
DTSTART;TZID=America/Chicago:20260720T180000
DTEND;TZID=America/Chicago:20260720T210000
DTSTAMP:20260423T082111
CREATED:20260326T154855Z
LAST-MODIFIED:20260326T154855Z
UID:10000780-1784570400-1784581200@billygskirkwood.com
SUMMARY:Mike Mattingly
DESCRIPTION:
URL:https://billygskirkwood.com/event/mike-mattingly-2/2026-07-20/
END:VEVENT
BEGIN:VEVENT
DTSTART;TZID=America/Chicago:20260727T180000
DTEND;TZID=America/Chicago:20260727T210000
DTSTAMP:20260423T082111
CREATED:20260326T154855Z
LAST-MODIFIED:20260326T154855Z
UID:10000781-1785175200-1785186000@billygskirkwood.com
SUMMARY:Mike Mattingly
DESCRIPTION:
URL:https://billygskirkwood.com/event/mike-mattingly-2/2026-07-27/
END:VEVENT
BEGIN:VEVENT
DTSTART;TZID=America/Chicago:20260803T180000
DTEND;TZID=America/Chicago:20260803T210000
DTSTAMP:20260423T082111
CREATED:20260326T154855Z
LAST-MODIFIED:20260326T154855Z
UID:10000782-1785780000-1785790800@billygskirkwood.com
SUMMARY:Mike Mattingly
DESCRIPTION:
URL:https://billygskirkwood.com/event/mike-mattingly-2/2026-08-03/
END:VEVENT
BEGIN:VEVENT
DTSTART;TZID=America/Chicago:20260810T180000
DTEND;TZID=America/Chicago:20260810T210000
DTSTAMP:20260423T082111
CREATED:20260326T154855Z
LAST-MODIFIED:20260326T154855Z
UID:10000783-1786384800-1786395600@billygskirkwood.com
SUMMARY:Mike Mattingly
DESCRIPTION:
URL:https://billygskirkwood.com/event/mike-mattingly-2/2026-08-10/
END:VEVENT
BEGIN:VEVENT
DTSTART;TZID=America/Chicago:20260817T180000
DTEND;TZID=America/Chicago:20260817T210000
DTSTAMP:20260423T082111
CREATED:20260326T154855Z
LAST-MODIFIED:20260326T154855Z
UID:10000784-1786989600-1787000400@billygskirkwood.com
SUMMARY:Mike Mattingly
DESCRIPTION:
URL:https://billygskirkwood.com/event/mike-mattingly-2/2026-08-17/
END:VEVENT
BEGIN:VEVENT
DTSTART;TZID=America/Chicago:20260824T180000
DTEND;TZID=America/Chicago:20260824T210000
DTSTAMP:20260423T082111
CREATED:20260326T154855Z
LAST-MODIFIED:20260326T154855Z
UID:10000785-1787594400-1787605200@billygskirkwood.com
SUMMARY:Mike Mattingly
DESCRIPTION:
URL:https://billygskirkwood.com/event/mike-mattingly-2/2026-08-24/
END:VEVENT
BEGIN:VEVENT
DTSTART;TZID=America/Chicago:20260831T180000
DTEND;TZID=America/Chicago:20260831T210000
DTSTAMP:20260423T082111
CREATED:20260326T154855Z
LAST-MODIFIED:20260326T154855Z
UID:10000786-1788199200-1788210000@billygskirkwood.com
SUMMARY:Mike Mattingly
DESCRIPTION:
URL:https://billygskirkwood.com/event/mike-mattingly-2/2026-08-31/
END:VEVENT
BEGIN:VEVENT
DTSTART;TZID=America/Chicago:20260907T180000
DTEND;TZID=America/Chicago:20260907T210000
DTSTAMP:20260423T082111
CREATED:20260326T154855Z
LAST-MODIFIED:20260326T154855Z
UID:10000787-1788804000-1788814800@billygskirkwood.com
SUMMARY:Mike Mattingly
DESCRIPTION:
URL:https://billygskirkwood.com/event/mike-mattingly-2/2026-09-07/
END:VEVENT
BEGIN:VEVENT
DTSTART;TZID=America/Chicago:20260914T180000
DTEND;TZID=America/Chicago:20260914T210000
DTSTAMP:20260423T082111
CREATED:20260326T154855Z
LAST-MODIFIED:20260326T154855Z
UID:10000788-1789408800-1789419600@billygskirkwood.com
SUMMARY:Mike Mattingly
DESCRIPTION:
URL:https://billygskirkwood.com/event/mike-mattingly-2/2026-09-14/
END:VEVENT
BEGIN:VEVENT
DTSTART;TZID=America/Chicago:20260921T180000
DTEND;TZID=America/Chicago:20260921T210000
DTSTAMP:20260423T082111
CREATED:20260326T154855Z
LAST-MODIFIED:20260326T154855Z
UID:10000789-1790013600-1790024400@billygskirkwood.com
SUMMARY:Mike Mattingly
DESCRIPTION:
URL:https://billygskirkwood.com/event/mike-mattingly-2/2026-09-21/
END:VEVENT
BEGIN:VEVENT
DTSTART;TZID=America/Chicago:20260928T180000
DTEND;TZID=America/Chicago:20260928T210000
DTSTAMP:20260423T082111
CREATED:20260326T154855Z
LAST-MODIFIED:20260326T154855Z
UID:10000790-1790618400-1790629200@billygskirkwood.com
SUMMARY:Mike Mattingly
DESCRIPTION:
URL:https://billygskirkwood.com/event/mike-mattingly-2/2026-09-28/
END:VEVENT
BEGIN:VEVENT
DTSTART;TZID=America/Chicago:20261005T180000
DTEND;TZID=America/Chicago:20261005T210000
DTSTAMP:20260423T082111
CREATED:20260326T154855Z
LAST-MODIFIED:20260326T154855Z
UID:10000791-1791223200-1791234000@billygskirkwood.com
SUMMARY:Mike Mattingly
DESCRIPTION:
URL:https://billygskirkwood.com/event/mike-mattingly-2/2026-10-05/
END:VEVENT
BEGIN:VEVENT
DTSTART;TZID=America/Chicago:20261012T180000
DTEND;TZID=America/Chicago:20261012T210000
DTSTAMP:20260423T082111
CREATED:20260326T154855Z
LAST-MODIFIED:20260326T154855Z
UID:10000792-1791828000-1791838800@billygskirkwood.com
SUMMARY:Mike Mattingly
DESCRIPTION:
URL:https://billygskirkwood.com/event/mike-mattingly-2/2026-10-12/
END:VEVENT
BEGIN:VEVENT
DTSTART;TZID=America/Chicago:20261019T180000
DTEND;TZID=America/Chicago:20261019T210000
DTSTAMP:20260423T082111
CREATED:20260326T154855Z
LAST-MODIFIED:20260326T154855Z
UID:10000793-1792432800-1792443600@billygskirkwood.com
SUMMARY:Mike Mattingly
DESCRIPTION:
URL:https://billygskirkwood.com/event/mike-mattingly-2/2026-10-19/
END:VEVENT
BEGIN:VEVENT
DTSTART;TZID=America/Chicago:20261026T180000
DTEND;TZID=America/Chicago:20261026T210000
DTSTAMP:20260423T082111
CREATED:20260326T154855Z
LAST-MODIFIED:20260326T154855Z
UID:10000794-1793037600-1793048400@billygskirkwood.com
SUMMARY:Mike Mattingly
DESCRIPTION:
URL:https://billygskirkwood.com/event/mike-mattingly-2/2026-10-26/
END:VEVENT
END:VCALENDAR