BEGIN:VCALENDAR
VERSION:2.0
PRODID:-//Billy G&#039;s Kirkwood - ECPv6.15.19//NONSGML v1.0//EN
CALSCALE:GREGORIAN
METHOD:PUBLISH
X-WR-CALNAME:Billy G&#039;s Kirkwood
X-ORIGINAL-URL:https://billygskirkwood.com
X-WR-CALDESC:Events for Billy G&#039;s Kirkwood
REFRESH-INTERVAL;VALUE=DURATION:PT1H
X-Robots-Tag:noindex
X-PUBLISHED-TTL:PT1H
BEGIN:VTIMEZONE
TZID:America/Chicago
BEGIN:DAYLIGHT
TZOFFSETFROM:-0600
TZOFFSETTO:-0500
TZNAME:CDT
DTSTART:20250309T080000
END:DAYLIGHT
BEGIN:STANDARD
TZOFFSETFROM:-0500
TZOFFSETTO:-0600
TZNAME:CST
DTSTART:20251102T070000
END:STANDARD
BEGIN:DAYLIGHT
TZOFFSETFROM:-0600
TZOFFSETTO:-0500
TZNAME:CDT
DTSTART:20260308T080000
END:DAYLIGHT
BEGIN:STANDARD
TZOFFSETFROM:-0500
TZOFFSETTO:-0600
TZNAME:CST
DTSTART:20261101T070000
END:STANDARD
BEGIN:DAYLIGHT
TZOFFSETFROM:-0600
TZOFFSETTO:-0500
TZNAME:CDT
DTSTART:20270314T080000
END:DAYLIGHT
BEGIN:STANDARD
TZOFFSETFROM:-0500
TZOFFSETTO:-0600
TZNAME:CST
DTSTART:20271107T070000
END:STANDARD
END:VTIMEZONE
BEGIN:VEVENT
DTSTART;TZID=America/Chicago:20260430T180000
DTEND;TZID=America/Chicago:20260430T210000
DTSTAMP:20260423T100145
CREATED:20260326T162418Z
LAST-MODIFIED:20260326T162418Z
UID:10000969-1777572000-1777582800@billygskirkwood.com
SUMMARY:Lisa Jones
DESCRIPTION:
URL:https://billygskirkwood.com/event/lisa-jones/2026-04-30/
END:VEVENT
BEGIN:VEVENT
DTSTART;TZID=America/Chicago:20260513T180000
DTEND;TZID=America/Chicago:20260513T210000
DTSTAMP:20260423T100145
CREATED:20260326T162418Z
LAST-MODIFIED:20260326T162418Z
UID:10000970-1778695200-1778706000@billygskirkwood.com
SUMMARY:Lisa Jones
DESCRIPTION:
URL:https://billygskirkwood.com/event/lisa-jones/2026-05-13/
END:VEVENT
BEGIN:VEVENT
DTSTART;TZID=America/Chicago:20260610T180000
DTEND;TZID=America/Chicago:20260610T210000
DTSTAMP:20260423T100145
CREATED:20260326T162418Z
LAST-MODIFIED:20260326T162418Z
UID:10000971-1781114400-1781125200@billygskirkwood.com
SUMMARY:Lisa Jones
DESCRIPTION:
URL:https://billygskirkwood.com/event/lisa-jones/2026-06-10/
END:VEVENT
BEGIN:VEVENT
DTSTART;TZID=America/Chicago:20260709T180000
DTEND;TZID=America/Chicago:20260709T210000
DTSTAMP:20260423T100145
CREATED:20260326T162418Z
LAST-MODIFIED:20260326T162418Z
UID:10000972-1783620000-1783630800@billygskirkwood.com
SUMMARY:Lisa Jones
DESCRIPTION:
URL:https://billygskirkwood.com/event/lisa-jones/2026-07-09/
END:VEVENT
BEGIN:VEVENT
DTSTART;TZID=America/Chicago:20260909T180000
DTEND;TZID=America/Chicago:20260909T210000
DTSTAMP:20260423T100145
CREATED:20260326T162418Z
LAST-MODIFIED:20260326T162418Z
UID:10000973-1788976800-1788987600@billygskirkwood.com
SUMMARY:Lisa Jones
DESCRIPTION:
URL:https://billygskirkwood.com/event/lisa-jones/2026-09-09/
END:VEVENT
BEGIN:VEVENT
DTSTART;TZID=America/Chicago:20261028T180000
DTEND;TZID=America/Chicago:20261028T210000
DTSTAMP:20260423T100145
CREATED:20260326T162418Z
LAST-MODIFIED:20260326T162418Z
UID:10000974-1793210400-1793221200@billygskirkwood.com
SUMMARY:Lisa Jones
DESCRIPTION:
URL:https://billygskirkwood.com/event/lisa-jones/2026-10-28/
END:VEVENT
END:VCALENDAR