BEGIN:VCALENDAR
VERSION:2.0
PRODID:-//Billy G&#039;s Kirkwood - ECPv6.15.19//NONSGML v1.0//EN
CALSCALE:GREGORIAN
METHOD:PUBLISH
X-WR-CALNAME:Billy G&#039;s Kirkwood
X-ORIGINAL-URL:https://billygskirkwood.com
X-WR-CALDESC:Events for Billy G&#039;s Kirkwood
REFRESH-INTERVAL;VALUE=DURATION:PT1H
X-Robots-Tag:noindex
X-PUBLISHED-TTL:PT1H
BEGIN:VTIMEZONE
TZID:America/Chicago
BEGIN:DAYLIGHT
TZOFFSETFROM:-0600
TZOFFSETTO:-0500
TZNAME:CDT
DTSTART:20250309T080000
END:DAYLIGHT
BEGIN:STANDARD
TZOFFSETFROM:-0500
TZOFFSETTO:-0600
TZNAME:CST
DTSTART:20251102T070000
END:STANDARD
BEGIN:DAYLIGHT
TZOFFSETFROM:-0600
TZOFFSETTO:-0500
TZNAME:CDT
DTSTART:20260308T080000
END:DAYLIGHT
BEGIN:STANDARD
TZOFFSETFROM:-0500
TZOFFSETTO:-0600
TZNAME:CST
DTSTART:20261101T070000
END:STANDARD
BEGIN:DAYLIGHT
TZOFFSETFROM:-0600
TZOFFSETTO:-0500
TZNAME:CDT
DTSTART:20270314T080000
END:DAYLIGHT
BEGIN:STANDARD
TZOFFSETFROM:-0500
TZOFFSETTO:-0600
TZNAME:CST
DTSTART:20271107T070000
END:STANDARD
END:VTIMEZONE
BEGIN:VEVENT
DTSTART;TZID=America/Chicago:20260517T180000
DTEND;TZID=America/Chicago:20260517T210000
DTSTAMP:20260419T233812
CREATED:20260326T162750Z
LAST-MODIFIED:20260326T162750Z
UID:10000976-1779040800-1779051600@billygskirkwood.com
SUMMARY:Kevin Gruen
DESCRIPTION:
URL:https://billygskirkwood.com/event/kevin-gruen/2026-05-17/
END:VEVENT
BEGIN:VEVENT
DTSTART;TZID=America/Chicago:20260722T180000
DTEND;TZID=America/Chicago:20260722T210000
DTSTAMP:20260419T233812
CREATED:20260326T162750Z
LAST-MODIFIED:20260326T162750Z
UID:10000977-1784743200-1784754000@billygskirkwood.com
SUMMARY:Kevin Gruen
DESCRIPTION:
URL:https://billygskirkwood.com/event/kevin-gruen/2026-07-22/
END:VEVENT
BEGIN:VEVENT
DTSTART;TZID=America/Chicago:20260820T180000
DTEND;TZID=America/Chicago:20260820T210000
DTSTAMP:20260419T233812
CREATED:20260326T162750Z
LAST-MODIFIED:20260326T162750Z
UID:10000978-1787248800-1787259600@billygskirkwood.com
SUMMARY:Kevin Gruen
DESCRIPTION:
URL:https://billygskirkwood.com/event/kevin-gruen/2026-08-20/
END:VEVENT
BEGIN:VEVENT
DTSTART;TZID=America/Chicago:20260917T180000
DTEND;TZID=America/Chicago:20260917T220000
DTSTAMP:20260419T233812
CREATED:20260326T162750Z
LAST-MODIFIED:20260326T162750Z
UID:10000979-1789668000-1789682400@billygskirkwood.com
SUMMARY:Kevin Gruen
DESCRIPTION:
URL:https://billygskirkwood.com/event/kevin-gruen/2026-09-17/
END:VEVENT
BEGIN:VEVENT
DTSTART;TZID=America/Chicago:20261014T180000
DTEND;TZID=America/Chicago:20261014T220000
DTSTAMP:20260419T233812
CREATED:20260326T162750Z
LAST-MODIFIED:20260326T162750Z
UID:10000980-1792000800-1792015200@billygskirkwood.com
SUMMARY:Kevin Gruen
DESCRIPTION:
URL:https://billygskirkwood.com/event/kevin-gruen/2026-10-14/
END:VEVENT
END:VCALENDAR