BEGIN:VCALENDAR
VERSION:2.0
PRODID:-//Billy G&#039;s Kirkwood - ECPv6.15.19//NONSGML v1.0//EN
CALSCALE:GREGORIAN
METHOD:PUBLISH
X-WR-CALNAME:Billy G&#039;s Kirkwood
X-ORIGINAL-URL:https://billygskirkwood.com
X-WR-CALDESC:Events for Billy G&#039;s Kirkwood
REFRESH-INTERVAL;VALUE=DURATION:PT1H
X-Robots-Tag:noindex
X-PUBLISHED-TTL:PT1H
BEGIN:VTIMEZONE
TZID:America/Chicago
BEGIN:DAYLIGHT
TZOFFSETFROM:-0600
TZOFFSETTO:-0500
TZNAME:CDT
DTSTART:20250309T080000
END:DAYLIGHT
BEGIN:STANDARD
TZOFFSETFROM:-0500
TZOFFSETTO:-0600
TZNAME:CST
DTSTART:20251102T070000
END:STANDARD
BEGIN:DAYLIGHT
TZOFFSETFROM:-0600
TZOFFSETTO:-0500
TZNAME:CDT
DTSTART:20260308T080000
END:DAYLIGHT
BEGIN:STANDARD
TZOFFSETFROM:-0500
TZOFFSETTO:-0600
TZNAME:CST
DTSTART:20261101T070000
END:STANDARD
BEGIN:DAYLIGHT
TZOFFSETFROM:-0600
TZOFFSETTO:-0500
TZNAME:CDT
DTSTART:20270314T080000
END:DAYLIGHT
BEGIN:STANDARD
TZOFFSETFROM:-0500
TZOFFSETTO:-0600
TZNAME:CST
DTSTART:20271107T070000
END:STANDARD
END:VTIMEZONE
BEGIN:VEVENT
DTSTART;TZID=America/Chicago:20260521T180000
DTEND;TZID=America/Chicago:20260521T210000
DTSTAMP:20260420T013433
CREATED:20260326T163022Z
LAST-MODIFIED:20260326T163022Z
UID:10000981-1779386400-1779397200@billygskirkwood.com
SUMMARY:Cole Allen
DESCRIPTION:
URL:https://billygskirkwood.com/event/cole-allen/2026-05-21/
END:VEVENT
BEGIN:VEVENT
DTSTART;TZID=America/Chicago:20260621T180000
DTEND;TZID=America/Chicago:20260621T210000
DTSTAMP:20260420T013433
CREATED:20260326T163022Z
LAST-MODIFIED:20260326T163022Z
UID:10000982-1782064800-1782075600@billygskirkwood.com
SUMMARY:Cole Allen
DESCRIPTION:
URL:https://billygskirkwood.com/event/cole-allen/2026-06-21/
END:VEVENT
BEGIN:VEVENT
DTSTART;TZID=America/Chicago:20260726T180000
DTEND;TZID=America/Chicago:20260726T210000
DTSTAMP:20260420T013433
CREATED:20260326T163022Z
LAST-MODIFIED:20260326T163022Z
UID:10000983-1785088800-1785099600@billygskirkwood.com
SUMMARY:Cole Allen
DESCRIPTION:
URL:https://billygskirkwood.com/event/cole-allen/2026-07-26/
END:VEVENT
BEGIN:VEVENT
DTSTART;TZID=America/Chicago:20260826T180000
DTEND;TZID=America/Chicago:20260826T210000
DTSTAMP:20260420T013433
CREATED:20260326T163022Z
LAST-MODIFIED:20260326T163022Z
UID:10000984-1787767200-1787778000@billygskirkwood.com
SUMMARY:Cole Allen
DESCRIPTION:
URL:https://billygskirkwood.com/event/cole-allen/2026-08-26/
END:VEVENT
BEGIN:VEVENT
DTSTART;TZID=America/Chicago:20261015T180000
DTEND;TZID=America/Chicago:20261015T210000
DTSTAMP:20260420T013433
CREATED:20260326T163022Z
LAST-MODIFIED:20260326T163022Z
UID:10000985-1792087200-1792098000@billygskirkwood.com
SUMMARY:Cole Allen
DESCRIPTION:
URL:https://billygskirkwood.com/event/cole-allen/2026-10-15/
END:VEVENT
END:VCALENDAR