BEGIN:VCALENDAR
VERSION:2.0
PRODID:-//Billy G&#039;s Kirkwood - ECPv6.15.19//NONSGML v1.0//EN
CALSCALE:GREGORIAN
METHOD:PUBLISH
X-WR-CALNAME:Billy G&#039;s Kirkwood
X-ORIGINAL-URL:https://billygskirkwood.com
X-WR-CALDESC:Events for Billy G&#039;s Kirkwood
REFRESH-INTERVAL;VALUE=DURATION:PT1H
X-Robots-Tag:noindex
X-PUBLISHED-TTL:PT1H
BEGIN:VTIMEZONE
TZID:America/Chicago
BEGIN:DAYLIGHT
TZOFFSETFROM:-0600
TZOFFSETTO:-0500
TZNAME:CDT
DTSTART:20250309T080000
END:DAYLIGHT
BEGIN:STANDARD
TZOFFSETFROM:-0500
TZOFFSETTO:-0600
TZNAME:CST
DTSTART:20251102T070000
END:STANDARD
BEGIN:DAYLIGHT
TZOFFSETFROM:-0600
TZOFFSETTO:-0500
TZNAME:CDT
DTSTART:20260308T080000
END:DAYLIGHT
BEGIN:STANDARD
TZOFFSETFROM:-0500
TZOFFSETTO:-0600
TZNAME:CST
DTSTART:20261101T070000
END:STANDARD
BEGIN:DAYLIGHT
TZOFFSETFROM:-0600
TZOFFSETTO:-0500
TZNAME:CDT
DTSTART:20270314T080000
END:DAYLIGHT
BEGIN:STANDARD
TZOFFSETFROM:-0500
TZOFFSETTO:-0600
TZNAME:CST
DTSTART:20271107T070000
END:STANDARD
END:VTIMEZONE
BEGIN:VEVENT
DTSTART;TZID=America/Chicago:20260426T180000
DTEND;TZID=America/Chicago:20260426T210000
DTSTAMP:20260420T183605
CREATED:20260326T161730Z
LAST-MODIFIED:20260420T153834Z
UID:10000963-1777226400-1777237200@billygskirkwood.com
SUMMARY:David Sifford
DESCRIPTION:
URL:https://billygskirkwood.com/event/david-sifford/2026-04-26/
END:VEVENT
BEGIN:VEVENT
DTSTART;TZID=America/Chicago:20260522T190000
DTEND;TZID=America/Chicago:20260522T220000
DTSTAMP:20260420T183605
CREATED:20260326T161730Z
LAST-MODIFIED:20260420T153834Z
UID:10001005-1779476400-1779487200@billygskirkwood.com
SUMMARY:David Sifford
DESCRIPTION:
URL:https://billygskirkwood.com/event/david-sifford/2026-05-22/
END:VEVENT
END:VCALENDAR